BEGIN:VCALENDAR
VERSION:2.0
PRODID:-//Macs Speed Shop - ECPv6.15.14//NONSGML v1.0//EN
CALSCALE:GREGORIAN
METHOD:PUBLISH
X-WR-CALNAME:Macs Speed Shop
X-ORIGINAL-URL:https://macspeedshop.com
X-WR-CALDESC:Events for Macs Speed Shop
REFRESH-INTERVAL;VALUE=DURATION:PT1H
X-Robots-Tag:noindex
X-PUBLISHED-TTL:PT1H
BEGIN:VTIMEZONE
TZID:America/New_York
BEGIN:DAYLIGHT
TZOFFSETFROM:-0500
TZOFFSETTO:-0400
TZNAME:EDT
DTSTART:20230312T070000
END:DAYLIGHT
BEGIN:STANDARD
TZOFFSETFROM:-0400
TZOFFSETTO:-0500
TZNAME:EST
DTSTART:20231105T060000
END:STANDARD
BEGIN:DAYLIGHT
TZOFFSETFROM:-0500
TZOFFSETTO:-0400
TZNAME:EDT
DTSTART:20240310T070000
END:DAYLIGHT
BEGIN:STANDARD
TZOFFSETFROM:-0400
TZOFFSETTO:-0500
TZNAME:EST
DTSTART:20241103T060000
END:STANDARD
BEGIN:DAYLIGHT
TZOFFSETFROM:-0500
TZOFFSETTO:-0400
TZNAME:EDT
DTSTART:20250309T070000
END:DAYLIGHT
BEGIN:STANDARD
TZOFFSETFROM:-0400
TZOFFSETTO:-0500
TZNAME:EST
DTSTART:20251102T060000
END:STANDARD
END:VTIMEZONE
BEGIN:VEVENT
DTSTART;TZID=America/New_York:20241023T170000
DTEND;TZID=America/New_York:20241023T220000
DTSTAMP:20260420T120851
CREATED:20240307T185058Z
LAST-MODIFIED:20240506T181354Z
UID:98054-1729702800-1729720800@macspeedshop.com
SUMMARY:Bike Night in Matthews!
DESCRIPTION:Bike Night is BACK at Mac’s Matthews! Bring your crew and enjoy some live music\, drink specials\, and good times every Wednesday! \nBike Night Drink Specials: \n\n$11 PBR Buckets\n$5 Jameson Shots\n$5.50 Beer of The Month Drafts
URL:https://macspeedshop.com/event/bike-night-in-matthews-2/2024-10-23/
LOCATION:Matthews\, 142 E John St\, Matthews\, NC\, 28105\, United States
CATEGORIES:Matthews
ATTACH;FMTTYPE=image/jpeg:https://macspeedshop.com/wp-content/uploads/2024/03/MTH-Bike-Night-Post-location-2.jpg
END:VEVENT
BEGIN:VEVENT
DTSTART;TZID=America/New_York:20241016T170000
DTEND;TZID=America/New_York:20241016T220000
DTSTAMP:20260420T120851
CREATED:20240307T185058Z
LAST-MODIFIED:20240506T181353Z
UID:98053-1729098000-1729116000@macspeedshop.com
SUMMARY:Bike Night in Matthews!
DESCRIPTION:Bike Night is BACK at Mac’s Matthews! Bring your crew and enjoy some live music\, drink specials\, and good times every Wednesday! \nBike Night Drink Specials: \n\n$11 PBR Buckets\n$5 Jameson Shots\n$5.50 Beer of The Month Drafts
URL:https://macspeedshop.com/event/bike-night-in-matthews-2/2024-10-16/
LOCATION:Matthews\, 142 E John St\, Matthews\, NC\, 28105\, United States
CATEGORIES:Matthews
ATTACH;FMTTYPE=image/jpeg:https://macspeedshop.com/wp-content/uploads/2024/03/MTH-Bike-Night-Post-location-2.jpg
END:VEVENT
BEGIN:VEVENT
DTSTART;TZID=America/New_York:20241009T170000
DTEND;TZID=America/New_York:20241009T220000
DTSTAMP:20260420T120851
CREATED:20240307T185058Z
LAST-MODIFIED:20240506T181351Z
UID:98052-1728493200-1728511200@macspeedshop.com
SUMMARY:Bike Night in Matthews!
DESCRIPTION:Bike Night is BACK at Mac’s Matthews! Bring your crew and enjoy some live music\, drink specials\, and good times every Wednesday! \nBike Night Drink Specials: \n\n$11 PBR Buckets\n$5 Jameson Shots\n$5.50 Beer of The Month Drafts
URL:https://macspeedshop.com/event/bike-night-in-matthews-2/2024-10-09/
LOCATION:Matthews\, 142 E John St\, Matthews\, NC\, 28105\, United States
CATEGORIES:Matthews
ATTACH;FMTTYPE=image/jpeg:https://macspeedshop.com/wp-content/uploads/2024/03/MTH-Bike-Night-Post-location-2.jpg
END:VEVENT
BEGIN:VEVENT
DTSTART;TZID=America/New_York:20241002T170000
DTEND;TZID=America/New_York:20241002T220000
DTSTAMP:20260420T120851
CREATED:20240307T185058Z
LAST-MODIFIED:20240506T181350Z
UID:98051-1727888400-1727906400@macspeedshop.com
SUMMARY:Bike Night in Matthews!
DESCRIPTION:Bike Night is BACK at Mac’s Matthews! Bring your crew and enjoy some live music\, drink specials\, and good times every Wednesday! \nBike Night Drink Specials: \n\n$11 PBR Buckets\n$5 Jameson Shots\n$5.50 Beer of The Month Drafts
URL:https://macspeedshop.com/event/bike-night-in-matthews-2/2024-10-02/
LOCATION:Matthews\, 142 E John St\, Matthews\, NC\, 28105\, United States
CATEGORIES:Matthews
ATTACH;FMTTYPE=image/jpeg:https://macspeedshop.com/wp-content/uploads/2024/03/MTH-Bike-Night-Post-location-2.jpg
END:VEVENT
BEGIN:VEVENT
DTSTART;TZID=America/New_York:20240925T170000
DTEND;TZID=America/New_York:20240925T220000
DTSTAMP:20260420T120851
CREATED:20240307T185058Z
LAST-MODIFIED:20240506T181350Z
UID:98050-1727283600-1727301600@macspeedshop.com
SUMMARY:Bike Night in Matthews!
DESCRIPTION:Bike Night is BACK at Mac’s Matthews! Bring your crew and enjoy some live music\, drink specials\, and good times every Wednesday! \nBike Night Drink Specials: \n\n$11 PBR Buckets\n$5 Jameson Shots\n$5.50 Beer of The Month Drafts
URL:https://macspeedshop.com/event/bike-night-in-matthews-2/2024-09-25/
LOCATION:Matthews\, 142 E John St\, Matthews\, NC\, 28105\, United States
CATEGORIES:Matthews
ATTACH;FMTTYPE=image/jpeg:https://macspeedshop.com/wp-content/uploads/2024/03/MTH-Bike-Night-Post-location-2.jpg
END:VEVENT
BEGIN:VEVENT
DTSTART;TZID=America/New_York:20240918T170000
DTEND;TZID=America/New_York:20240918T220000
DTSTAMP:20260420T120851
CREATED:20240307T185058Z
LAST-MODIFIED:20240506T181349Z
UID:98049-1726678800-1726696800@macspeedshop.com
SUMMARY:Bike Night in Matthews!
DESCRIPTION:Bike Night is BACK at Mac’s Matthews! Bring your crew and enjoy some live music\, drink specials\, and good times every Wednesday! \nBike Night Drink Specials: \n\n$11 PBR Buckets\n$5 Jameson Shots\n$5.50 Beer of The Month Drafts
URL:https://macspeedshop.com/event/bike-night-in-matthews-2/2024-09-18/
LOCATION:Matthews\, 142 E John St\, Matthews\, NC\, 28105\, United States
CATEGORIES:Matthews
ATTACH;FMTTYPE=image/jpeg:https://macspeedshop.com/wp-content/uploads/2024/03/MTH-Bike-Night-Post-location-2.jpg
END:VEVENT
BEGIN:VEVENT
DTSTART;TZID=America/New_York:20240911T170000
DTEND;TZID=America/New_York:20240911T220000
DTSTAMP:20260420T120851
CREATED:20240307T185058Z
LAST-MODIFIED:20240506T181349Z
UID:98048-1726074000-1726092000@macspeedshop.com
SUMMARY:Bike Night in Matthews!
DESCRIPTION:Bike Night is BACK at Mac’s Matthews! Bring your crew and enjoy some live music\, drink specials\, and good times every Wednesday! \nBike Night Drink Specials: \n\n$11 PBR Buckets\n$5 Jameson Shots\n$5.50 Beer of The Month Drafts
URL:https://macspeedshop.com/event/bike-night-in-matthews-2/2024-09-11/
LOCATION:Matthews\, 142 E John St\, Matthews\, NC\, 28105\, United States
CATEGORIES:Matthews
ATTACH;FMTTYPE=image/jpeg:https://macspeedshop.com/wp-content/uploads/2024/03/MTH-Bike-Night-Post-location-2.jpg
END:VEVENT
BEGIN:VEVENT
DTSTART;TZID=America/New_York:20240904T170000
DTEND;TZID=America/New_York:20240904T220000
DTSTAMP:20260420T120851
CREATED:20240307T185058Z
LAST-MODIFIED:20240506T181348Z
UID:98047-1725469200-1725487200@macspeedshop.com
SUMMARY:Bike Night in Matthews!
DESCRIPTION:Bike Night is BACK at Mac’s Matthews! Bring your crew and enjoy some live music\, drink specials\, and good times every Wednesday! \nBike Night Drink Specials: \n\n$11 PBR Buckets\n$5 Jameson Shots\n$5.50 Beer of The Month Drafts
URL:https://macspeedshop.com/event/bike-night-in-matthews-2/2024-09-04/
LOCATION:Matthews\, 142 E John St\, Matthews\, NC\, 28105\, United States
CATEGORIES:Matthews
ATTACH;FMTTYPE=image/jpeg:https://macspeedshop.com/wp-content/uploads/2024/03/MTH-Bike-Night-Post-location-2.jpg
END:VEVENT
BEGIN:VEVENT
DTSTART;TZID=America/New_York:20240828T170000
DTEND;TZID=America/New_York:20240828T220000
DTSTAMP:20260420T120851
CREATED:20240307T185058Z
LAST-MODIFIED:20240506T181348Z
UID:98046-1724864400-1724882400@macspeedshop.com
SUMMARY:Bike Night in Matthews!
DESCRIPTION:Bike Night is BACK at Mac’s Matthews! Bring your crew and enjoy some live music\, drink specials\, and good times every Wednesday! \nBike Night Drink Specials: \n\n$11 PBR Buckets\n$5 Jameson Shots\n$5.50 Beer of The Month Drafts
URL:https://macspeedshop.com/event/bike-night-in-matthews-2/2024-08-28/
LOCATION:Matthews\, 142 E John St\, Matthews\, NC\, 28105\, United States
CATEGORIES:Matthews
ATTACH;FMTTYPE=image/jpeg:https://macspeedshop.com/wp-content/uploads/2024/03/MTH-Bike-Night-Post-location-2.jpg
END:VEVENT
BEGIN:VEVENT
DTSTART;TZID=America/New_York:20240821T170000
DTEND;TZID=America/New_York:20240821T220000
DTSTAMP:20260420T120851
CREATED:20240307T185058Z
LAST-MODIFIED:20240506T181347Z
UID:98045-1724259600-1724277600@macspeedshop.com
SUMMARY:Bike Night in Matthews!
DESCRIPTION:Bike Night is BACK at Mac’s Matthews! Bring your crew and enjoy some live music\, drink specials\, and good times every Wednesday! \nBike Night Drink Specials: \n\n$11 PBR Buckets\n$5 Jameson Shots\n$5.50 Beer of The Month Drafts
URL:https://macspeedshop.com/event/bike-night-in-matthews-2/2024-08-21/
LOCATION:Matthews\, 142 E John St\, Matthews\, NC\, 28105\, United States
CATEGORIES:Matthews
ATTACH;FMTTYPE=image/jpeg:https://macspeedshop.com/wp-content/uploads/2024/03/MTH-Bike-Night-Post-location-2.jpg
END:VEVENT
BEGIN:VEVENT
DTSTART;TZID=America/New_York:20240814T170000
DTEND;TZID=America/New_York:20240814T220000
DTSTAMP:20260420T120851
CREATED:20240307T185058Z
LAST-MODIFIED:20240506T181347Z
UID:98044-1723654800-1723672800@macspeedshop.com
SUMMARY:Bike Night in Matthews!
DESCRIPTION:Bike Night is BACK at Mac’s Matthews! Bring your crew and enjoy some live music\, drink specials\, and good times every Wednesday! \nBike Night Drink Specials: \n\n$11 PBR Buckets\n$5 Jameson Shots\n$5.50 Beer of The Month Drafts
URL:https://macspeedshop.com/event/bike-night-in-matthews-2/2024-08-14/
LOCATION:Matthews\, 142 E John St\, Matthews\, NC\, 28105\, United States
CATEGORIES:Matthews
ATTACH;FMTTYPE=image/jpeg:https://macspeedshop.com/wp-content/uploads/2024/03/MTH-Bike-Night-Post-location-2.jpg
END:VEVENT
BEGIN:VEVENT
DTSTART;TZID=America/New_York:20240807T170000
DTEND;TZID=America/New_York:20240807T220000
DTSTAMP:20260420T120851
CREATED:20240307T185058Z
LAST-MODIFIED:20240506T181346Z
UID:98043-1723050000-1723068000@macspeedshop.com
SUMMARY:Bike Night in Matthews!
DESCRIPTION:Bike Night is BACK at Mac’s Matthews! Bring your crew and enjoy some live music\, drink specials\, and good times every Wednesday! \nBike Night Drink Specials: \n\n$11 PBR Buckets\n$5 Jameson Shots\n$5.50 Beer of The Month Drafts
URL:https://macspeedshop.com/event/bike-night-in-matthews-2/2024-08-07/
LOCATION:Matthews\, 142 E John St\, Matthews\, NC\, 28105\, United States
CATEGORIES:Matthews
ATTACH;FMTTYPE=image/jpeg:https://macspeedshop.com/wp-content/uploads/2024/03/MTH-Bike-Night-Post-location-2.jpg
END:VEVENT
BEGIN:VEVENT
DTSTART;TZID=America/New_York:20240731T170000
DTEND;TZID=America/New_York:20240731T220000
DTSTAMP:20260420T120851
CREATED:20240307T185058Z
LAST-MODIFIED:20240506T181343Z
UID:98042-1722445200-1722463200@macspeedshop.com
SUMMARY:Bike Night in Matthews!
DESCRIPTION:Bike Night is BACK at Mac’s Matthews! Bring your crew and enjoy some live music\, drink specials\, and good times every Wednesday! \nBike Night Drink Specials: \n\n$11 PBR Buckets\n$5 Jameson Shots\n$5.50 Beer of The Month Drafts
URL:https://macspeedshop.com/event/bike-night-in-matthews-2/2024-07-31/
LOCATION:Matthews\, 142 E John St\, Matthews\, NC\, 28105\, United States
CATEGORIES:Matthews
ATTACH;FMTTYPE=image/jpeg:https://macspeedshop.com/wp-content/uploads/2024/03/MTH-Bike-Night-Post-location-2.jpg
END:VEVENT
BEGIN:VEVENT
DTSTART;TZID=America/New_York:20240724T170000
DTEND;TZID=America/New_York:20240724T220000
DTSTAMP:20260420T120851
CREATED:20240307T185058Z
LAST-MODIFIED:20240506T181342Z
UID:98041-1721840400-1721858400@macspeedshop.com
SUMMARY:Bike Night in Matthews!
DESCRIPTION:Bike Night is BACK at Mac’s Matthews! Bring your crew and enjoy some live music\, drink specials\, and good times every Wednesday! \nBike Night Drink Specials: \n\n$11 PBR Buckets\n$5 Jameson Shots\n$5.50 Beer of The Month Drafts
URL:https://macspeedshop.com/event/bike-night-in-matthews-2/2024-07-24/
LOCATION:Matthews\, 142 E John St\, Matthews\, NC\, 28105\, United States
CATEGORIES:Matthews
ATTACH;FMTTYPE=image/jpeg:https://macspeedshop.com/wp-content/uploads/2024/03/MTH-Bike-Night-Post-location-2.jpg
END:VEVENT
BEGIN:VEVENT
DTSTART;TZID=America/New_York:20240717T170000
DTEND;TZID=America/New_York:20240717T220000
DTSTAMP:20260420T120851
CREATED:20240307T185058Z
LAST-MODIFIED:20240506T181342Z
UID:98040-1721235600-1721253600@macspeedshop.com
SUMMARY:Bike Night in Matthews!
DESCRIPTION:Bike Night is BACK at Mac’s Matthews! Bring your crew and enjoy some live music\, drink specials\, and good times every Wednesday! \nBike Night Drink Specials: \n\n$11 PBR Buckets\n$5 Jameson Shots\n$5.50 Beer of The Month Drafts
URL:https://macspeedshop.com/event/bike-night-in-matthews-2/2024-07-17/
LOCATION:Matthews\, 142 E John St\, Matthews\, NC\, 28105\, United States
CATEGORIES:Matthews
ATTACH;FMTTYPE=image/jpeg:https://macspeedshop.com/wp-content/uploads/2024/03/MTH-Bike-Night-Post-location-2.jpg
END:VEVENT
BEGIN:VEVENT
DTSTART;TZID=America/New_York:20240710T170000
DTEND;TZID=America/New_York:20240710T220000
DTSTAMP:20260420T120851
CREATED:20240307T185058Z
LAST-MODIFIED:20240506T181341Z
UID:98039-1720630800-1720648800@macspeedshop.com
SUMMARY:Bike Night in Matthews!
DESCRIPTION:Bike Night is BACK at Mac’s Matthews! Bring your crew and enjoy some live music\, drink specials\, and good times every Wednesday! \nBike Night Drink Specials: \n\n$11 PBR Buckets\n$5 Jameson Shots\n$5.50 Beer of The Month Drafts
URL:https://macspeedshop.com/event/bike-night-in-matthews-2/2024-07-10/
LOCATION:Matthews\, 142 E John St\, Matthews\, NC\, 28105\, United States
CATEGORIES:Matthews
ATTACH;FMTTYPE=image/jpeg:https://macspeedshop.com/wp-content/uploads/2024/03/MTH-Bike-Night-Post-location-2.jpg
END:VEVENT
BEGIN:VEVENT
DTSTART;TZID=America/New_York:20240703T170000
DTEND;TZID=America/New_York:20240703T220000
DTSTAMP:20260420T120851
CREATED:20240307T185058Z
LAST-MODIFIED:20240506T181341Z
UID:98038-1720026000-1720044000@macspeedshop.com
SUMMARY:Bike Night in Matthews!
DESCRIPTION:Bike Night is BACK at Mac’s Matthews! Bring your crew and enjoy some live music\, drink specials\, and good times every Wednesday! \nBike Night Drink Specials: \n\n$11 PBR Buckets\n$5 Jameson Shots\n$5.50 Beer of The Month Drafts
URL:https://macspeedshop.com/event/bike-night-in-matthews-2/2024-07-03/
LOCATION:Matthews\, 142 E John St\, Matthews\, NC\, 28105\, United States
CATEGORIES:Matthews
ATTACH;FMTTYPE=image/jpeg:https://macspeedshop.com/wp-content/uploads/2024/03/MTH-Bike-Night-Post-location-2.jpg
END:VEVENT
BEGIN:VEVENT
DTSTART;TZID=America/New_York:20240626T170000
DTEND;TZID=America/New_York:20240626T220000
DTSTAMP:20260420T120851
CREATED:20240307T185058Z
LAST-MODIFIED:20240506T181340Z
UID:98037-1719421200-1719439200@macspeedshop.com
SUMMARY:Bike Night in Matthews!
DESCRIPTION:Bike Night is BACK at Mac’s Matthews! Bring your crew and enjoy some live music\, drink specials\, and good times every Wednesday! \nBike Night Drink Specials: \n\n$11 PBR Buckets\n$5 Jameson Shots\n$5.50 Beer of The Month Drafts
URL:https://macspeedshop.com/event/bike-night-in-matthews-2/2024-06-26/
LOCATION:Matthews\, 142 E John St\, Matthews\, NC\, 28105\, United States
CATEGORIES:Matthews
ATTACH;FMTTYPE=image/jpeg:https://macspeedshop.com/wp-content/uploads/2024/03/MTH-Bike-Night-Post-location-2.jpg
END:VEVENT
BEGIN:VEVENT
DTSTART;TZID=America/New_York:20240619T170000
DTEND;TZID=America/New_York:20240619T220000
DTSTAMP:20260420T120851
CREATED:20240307T185058Z
LAST-MODIFIED:20240506T181339Z
UID:98036-1718816400-1718834400@macspeedshop.com
SUMMARY:Bike Night in Matthews!
DESCRIPTION:Bike Night is BACK at Mac’s Matthews! Bring your crew and enjoy some live music\, drink specials\, and good times every Wednesday! \nBike Night Drink Specials: \n\n$11 PBR Buckets\n$5 Jameson Shots\n$5.50 Beer of The Month Drafts
URL:https://macspeedshop.com/event/bike-night-in-matthews-2/2024-06-19/
LOCATION:Matthews\, 142 E John St\, Matthews\, NC\, 28105\, United States
CATEGORIES:Matthews
ATTACH;FMTTYPE=image/jpeg:https://macspeedshop.com/wp-content/uploads/2024/03/MTH-Bike-Night-Post-location-2.jpg
END:VEVENT
BEGIN:VEVENT
DTSTART;TZID=America/New_York:20240612T170000
DTEND;TZID=America/New_York:20240612T220000
DTSTAMP:20260420T120851
CREATED:20240307T185058Z
LAST-MODIFIED:20240506T181338Z
UID:98035-1718211600-1718229600@macspeedshop.com
SUMMARY:Bike Night in Matthews!
DESCRIPTION:Bike Night is BACK at Mac’s Matthews! Bring your crew and enjoy some live music\, drink specials\, and good times every Wednesday! \nBike Night Drink Specials: \n\n$11 PBR Buckets\n$5 Jameson Shots\n$5.50 Beer of The Month Drafts
URL:https://macspeedshop.com/event/bike-night-in-matthews-2/2024-06-12/
LOCATION:Matthews\, 142 E John St\, Matthews\, NC\, 28105\, United States
CATEGORIES:Matthews
ATTACH;FMTTYPE=image/jpeg:https://macspeedshop.com/wp-content/uploads/2024/03/MTH-Bike-Night-Post-location-2.jpg
END:VEVENT
BEGIN:VEVENT
DTSTART;TZID=America/New_York:20240605T170000
DTEND;TZID=America/New_York:20240605T220000
DTSTAMP:20260420T120851
CREATED:20240307T185058Z
LAST-MODIFIED:20240506T181338Z
UID:98034-1717606800-1717624800@macspeedshop.com
SUMMARY:Bike Night in Matthews!
DESCRIPTION:Bike Night is BACK at Mac’s Matthews! Bring your crew and enjoy some live music\, drink specials\, and good times every Wednesday! \nBike Night Drink Specials: \n\n$11 PBR Buckets\n$5 Jameson Shots\n$5.50 Beer of The Month Drafts
URL:https://macspeedshop.com/event/bike-night-in-matthews-2/2024-06-05/
LOCATION:Matthews\, 142 E John St\, Matthews\, NC\, 28105\, United States
CATEGORIES:Matthews
ATTACH;FMTTYPE=image/jpeg:https://macspeedshop.com/wp-content/uploads/2024/03/MTH-Bike-Night-Post-location-2.jpg
END:VEVENT
BEGIN:VEVENT
DTSTART;TZID=America/New_York:20240529T170000
DTEND;TZID=America/New_York:20240529T220000
DTSTAMP:20260420T120851
CREATED:20240307T185058Z
LAST-MODIFIED:20240506T181337Z
UID:98033-1717002000-1717020000@macspeedshop.com
SUMMARY:Bike Night in Matthews!
DESCRIPTION:Bike Night is BACK at Mac’s Matthews! Bring your crew and enjoy some live music\, drink specials\, and good times every Wednesday! \nBike Night Drink Specials: \n\n$11 PBR Buckets\n$5 Jameson Shots\n$5.50 Beer of The Month Drafts
URL:https://macspeedshop.com/event/bike-night-in-matthews-2/2024-05-29/
LOCATION:Matthews\, 142 E John St\, Matthews\, NC\, 28105\, United States
CATEGORIES:Matthews
ATTACH;FMTTYPE=image/jpeg:https://macspeedshop.com/wp-content/uploads/2024/03/MTH-Bike-Night-Post-location-2.jpg
END:VEVENT
BEGIN:VEVENT
DTSTART;TZID=America/New_York:20240522T170000
DTEND;TZID=America/New_York:20240522T220000
DTSTAMP:20260420T120851
CREATED:20240307T185058Z
LAST-MODIFIED:20240506T181331Z
UID:98031-1716397200-1716415200@macspeedshop.com
SUMMARY:Bike Night in Matthews!
DESCRIPTION:Bike Night is BACK at Mac’s Matthews! Bring your crew and enjoy some live music\, drink specials\, and good times every Wednesday! \nBike Night Drink Specials: \n\n$11 PBR Buckets\n$5 Jameson Shots\n$5.50 Beer of The Month Drafts
URL:https://macspeedshop.com/event/bike-night-in-matthews-2/2024-05-22/
LOCATION:Matthews\, 142 E John St\, Matthews\, NC\, 28105\, United States
CATEGORIES:Matthews
ATTACH;FMTTYPE=image/jpeg:https://macspeedshop.com/wp-content/uploads/2024/03/MTH-Bike-Night-Post-location-2.jpg
END:VEVENT
BEGIN:VEVENT
DTSTART;TZID=America/New_York:20240515T170000
DTEND;TZID=America/New_York:20240515T220000
DTSTAMP:20260420T120851
CREATED:20240307T185058Z
LAST-MODIFIED:20240506T181330Z
UID:98030-1715792400-1715810400@macspeedshop.com
SUMMARY:Bike Night in Matthews!
DESCRIPTION:Bike Night is BACK at Mac’s Matthews! Bring your crew and enjoy some live music\, drink specials\, and good times every Wednesday! \nBike Night Drink Specials: \n\n$11 PBR Buckets\n$5 Jameson Shots\n$5.50 Beer of The Month Drafts
URL:https://macspeedshop.com/event/bike-night-in-matthews-2/2024-05-15/
LOCATION:Matthews\, 142 E John St\, Matthews\, NC\, 28105\, United States
CATEGORIES:Matthews
ATTACH;FMTTYPE=image/jpeg:https://macspeedshop.com/wp-content/uploads/2024/03/MTH-Bike-Night-Post-location-2.jpg
END:VEVENT
BEGIN:VEVENT
DTSTART;TZID=America/New_York:20240508T170000
DTEND;TZID=America/New_York:20240508T220000
DTSTAMP:20260420T120851
CREATED:20240307T185058Z
LAST-MODIFIED:20240506T181330Z
UID:98029-1715187600-1715205600@macspeedshop.com
SUMMARY:Bike Night in Matthews!
DESCRIPTION:Bike Night is BACK at Mac’s Matthews! Bring your crew and enjoy some live music\, drink specials\, and good times every Wednesday! \nBike Night Drink Specials: \n\n$11 PBR Buckets\n$5 Jameson Shots\n$5.50 Beer of The Month Drafts
URL:https://macspeedshop.com/event/bike-night-in-matthews-2/2024-05-08/
LOCATION:Matthews\, 142 E John St\, Matthews\, NC\, 28105\, United States
CATEGORIES:Matthews
ATTACH;FMTTYPE=image/jpeg:https://macspeedshop.com/wp-content/uploads/2024/03/MTH-Bike-Night-Post-location-2.jpg
END:VEVENT
BEGIN:VEVENT
DTSTART;TZID=America/New_York:20240501T170000
DTEND;TZID=America/New_York:20240501T220000
DTSTAMP:20260420T120851
CREATED:20240307T185058Z
LAST-MODIFIED:20240506T181329Z
UID:98028-1714582800-1714600800@macspeedshop.com
SUMMARY:Bike Night in Matthews!
DESCRIPTION:Bike Night is BACK at Mac’s Matthews! Bring your crew and enjoy some live music\, drink specials\, and good times every Wednesday! \nBike Night Drink Specials: \n\n$11 PBR Buckets\n$5 Jameson Shots\n$5.50 Beer of The Month Drafts
URL:https://macspeedshop.com/event/bike-night-in-matthews-2/2024-05-01/
LOCATION:Matthews\, 142 E John St\, Matthews\, NC\, 28105\, United States
CATEGORIES:Matthews
ATTACH;FMTTYPE=image/jpeg:https://macspeedshop.com/wp-content/uploads/2024/03/MTH-Bike-Night-Post-location-2.jpg
END:VEVENT
BEGIN:VEVENT
DTSTART;TZID=America/New_York:20240424T170000
DTEND;TZID=America/New_York:20240424T220000
DTSTAMP:20260420T120851
CREATED:20240307T185058Z
LAST-MODIFIED:20240506T181329Z
UID:98027-1713978000-1713996000@macspeedshop.com
SUMMARY:Bike Night in Matthews!
DESCRIPTION:Bike Night is BACK at Mac’s Matthews! Bring your crew and enjoy some live music\, drink specials\, and good times every Wednesday! \nBike Night Drink Specials: \n\n$11 PBR Buckets\n$5 Jameson Shots\n$5.50 Beer of The Month Drafts
URL:https://macspeedshop.com/event/bike-night-in-matthews-2/2024-04-24/
LOCATION:Matthews\, 142 E John St\, Matthews\, NC\, 28105\, United States
CATEGORIES:Matthews
ATTACH;FMTTYPE=image/jpeg:https://macspeedshop.com/wp-content/uploads/2024/03/MTH-Bike-Night-Post-location-2.jpg
END:VEVENT
BEGIN:VEVENT
DTSTART;TZID=America/New_York:20240313T170000
DTEND;TZID=America/New_York:20240313T220000
DTSTAMP:20260420T120851
CREATED:20240307T185058Z
LAST-MODIFIED:20240506T181325Z
UID:98020-1710349200-1710367200@macspeedshop.com
SUMMARY:Bike Night in Matthews!
DESCRIPTION:Bike Night is BACK at Mac’s Matthews! Bring your crew and enjoy some live music\, drink specials\, and good times every Wednesday! \nBike Night Drink Specials: \n\n$11 PBR Buckets\n$5 Jameson Shots\n$5.50 Beer of The Month Drafts
URL:https://macspeedshop.com/event/bike-night-in-matthews-2/2024-03-13/
LOCATION:Matthews\, 142 E John St\, Matthews\, NC\, 28105\, United States
CATEGORIES:Matthews
ATTACH;FMTTYPE=image/jpeg:https://macspeedshop.com/wp-content/uploads/2024/03/MTH-Bike-Night-Post-location-2.jpg
END:VEVENT
END:VCALENDAR