BEGIN:VCALENDAR
VERSION:2.0
PRODID:-//Macs Speed Shop - ECPv6.15.14//NONSGML v1.0//EN
CALSCALE:GREGORIAN
METHOD:PUBLISH
X-ORIGINAL-URL:https://macspeedshop.com
X-WR-CALDESC:Events for Macs Speed Shop
REFRESH-INTERVAL;VALUE=DURATION:PT1H
X-Robots-Tag:noindex
X-PUBLISHED-TTL:PT1H
BEGIN:VTIMEZONE
TZID:America/New_York
BEGIN:DAYLIGHT
TZOFFSETFROM:-0500
TZOFFSETTO:-0400
TZNAME:EDT
DTSTART:20240310T070000
END:DAYLIGHT
BEGIN:STANDARD
TZOFFSETFROM:-0400
TZOFFSETTO:-0500
TZNAME:EST
DTSTART:20241103T060000
END:STANDARD
BEGIN:DAYLIGHT
TZOFFSETFROM:-0500
TZOFFSETTO:-0400
TZNAME:EDT
DTSTART:20250309T070000
END:DAYLIGHT
BEGIN:STANDARD
TZOFFSETFROM:-0400
TZOFFSETTO:-0500
TZNAME:EST
DTSTART:20251102T060000
END:STANDARD
BEGIN:DAYLIGHT
TZOFFSETFROM:-0500
TZOFFSETTO:-0400
TZNAME:EDT
DTSTART:20260308T070000
END:DAYLIGHT
BEGIN:STANDARD
TZOFFSETFROM:-0400
TZOFFSETTO:-0500
TZNAME:EST
DTSTART:20261101T060000
END:STANDARD
BEGIN:DAYLIGHT
TZOFFSETFROM:-0500
TZOFFSETTO:-0400
TZNAME:EDT
DTSTART:20270314T070000
END:DAYLIGHT
BEGIN:STANDARD
TZOFFSETFROM:-0400
TZOFFSETTO:-0500
TZNAME:EST
DTSTART:20271107T060000
END:STANDARD
END:VTIMEZONE
BEGIN:VEVENT
DTSTART;TZID=America/New_York:20260414T170000
DTEND;TZID=America/New_York:20260414T220000
DTSTAMP:20260420T150816
CREATED:20250603T185758Z
LAST-MODIFIED:20260323T161609Z
UID:102702-1776186000-1776204000@macspeedshop.com
SUMMARY:Kids Night!
DESCRIPTION:Kids Rule Tuesday Nights!\nGet a kids meal for $2.50 with purchase of an adult entrée starting at 5pm!\n*Dine-In Only*
URL:https://macspeedshop.com/event/kids-night/2026-04-14/
LOCATION:Concord Mills\, 8021 Concord Mills Boulevard\, Concord\, North Carolina\, 28027
ATTACH;FMTTYPE=image/jpeg:https://macspeedshop.com/wp-content/uploads/2024/03/Kids-Night-5.jpg
END:VEVENT
BEGIN:VEVENT
DTSTART;TZID=America/New_York:20260407T170000
DTEND;TZID=America/New_York:20260407T220000
DTSTAMP:20260420T150816
CREATED:20250603T185758Z
LAST-MODIFIED:20260323T161608Z
UID:102701-1775581200-1775599200@macspeedshop.com
SUMMARY:Kids Night!
DESCRIPTION:Kids Rule Tuesday Nights!\nGet a kids meal for $2.50 with purchase of an adult entrée starting at 5pm!\n*Dine-In Only*
URL:https://macspeedshop.com/event/kids-night/2026-04-07/
LOCATION:Concord Mills\, 8021 Concord Mills Boulevard\, Concord\, North Carolina\, 28027
ATTACH;FMTTYPE=image/jpeg:https://macspeedshop.com/wp-content/uploads/2024/03/Kids-Night-5.jpg
END:VEVENT
BEGIN:VEVENT
DTSTART;TZID=America/New_York:20260331T170000
DTEND;TZID=America/New_York:20260331T220000
DTSTAMP:20260420T150816
CREATED:20250603T185758Z
LAST-MODIFIED:20260323T161608Z
UID:102700-1774976400-1774994400@macspeedshop.com
SUMMARY:Kids Night!
DESCRIPTION:Kids Rule Tuesday Nights!\nGet a kids meal for $2.50 with purchase of an adult entrée starting at 5pm!\n*Dine-In Only*
URL:https://macspeedshop.com/event/kids-night/2026-03-31/
LOCATION:Concord Mills\, 8021 Concord Mills Boulevard\, Concord\, North Carolina\, 28027
ATTACH;FMTTYPE=image/jpeg:https://macspeedshop.com/wp-content/uploads/2024/03/Kids-Night-5.jpg
END:VEVENT
BEGIN:VEVENT
DTSTART;TZID=America/New_York:20260324T170000
DTEND;TZID=America/New_York:20260324T220000
DTSTAMP:20260420T150816
CREATED:20250603T185758Z
LAST-MODIFIED:20260323T161607Z
UID:102699-1774371600-1774389600@macspeedshop.com
SUMMARY:Kids Night!
DESCRIPTION:Kids Rule Tuesday Nights!\nGet a kids meal for $2.50 with purchase of an adult entrée starting at 5pm!\n*Dine-In Only*
URL:https://macspeedshop.com/event/kids-night/2026-03-24/
LOCATION:Concord Mills\, 8021 Concord Mills Boulevard\, Concord\, North Carolina\, 28027
ATTACH;FMTTYPE=image/jpeg:https://macspeedshop.com/wp-content/uploads/2024/03/Kids-Night-5.jpg
END:VEVENT
BEGIN:VEVENT
DTSTART;TZID=America/New_York:20260317T170000
DTEND;TZID=America/New_York:20260317T220000
DTSTAMP:20260420T150816
CREATED:20250603T185758Z
LAST-MODIFIED:20260323T161606Z
UID:102698-1773766800-1773784800@macspeedshop.com
SUMMARY:Kids Night!
DESCRIPTION:Kids Rule Tuesday Nights!\nGet a kids meal for $2.50 with purchase of an adult entrée starting at 5pm!\n*Dine-In Only*
URL:https://macspeedshop.com/event/kids-night/2026-03-17/
LOCATION:Concord Mills\, 8021 Concord Mills Boulevard\, Concord\, North Carolina\, 28027
ATTACH;FMTTYPE=image/jpeg:https://macspeedshop.com/wp-content/uploads/2024/03/Kids-Night-5.jpg
END:VEVENT
BEGIN:VEVENT
DTSTART;TZID=America/New_York:20260310T170000
DTEND;TZID=America/New_York:20260310T220000
DTSTAMP:20260420T150816
CREATED:20250603T185758Z
LAST-MODIFIED:20260323T161605Z
UID:102697-1773162000-1773180000@macspeedshop.com
SUMMARY:Kids Night!
DESCRIPTION:Kids Rule Tuesday Nights!\nGet a kids meal for $2.50 with purchase of an adult entrée starting at 5pm!\n*Dine-In Only*
URL:https://macspeedshop.com/event/kids-night/2026-03-10/
LOCATION:Concord Mills\, 8021 Concord Mills Boulevard\, Concord\, North Carolina\, 28027
ATTACH;FMTTYPE=image/jpeg:https://macspeedshop.com/wp-content/uploads/2024/03/Kids-Night-5.jpg
END:VEVENT
BEGIN:VEVENT
DTSTART;TZID=America/New_York:20260303T170000
DTEND;TZID=America/New_York:20260303T220000
DTSTAMP:20260420T150816
CREATED:20250603T185758Z
LAST-MODIFIED:20260323T161605Z
UID:102696-1772557200-1772575200@macspeedshop.com
SUMMARY:Kids Night!
DESCRIPTION:Kids Rule Tuesday Nights!\nGet a kids meal for $2.50 with purchase of an adult entrée starting at 5pm!\n*Dine-In Only*
URL:https://macspeedshop.com/event/kids-night/2026-03-03/
LOCATION:Concord Mills\, 8021 Concord Mills Boulevard\, Concord\, North Carolina\, 28027
ATTACH;FMTTYPE=image/jpeg:https://macspeedshop.com/wp-content/uploads/2024/03/Kids-Night-5.jpg
END:VEVENT
BEGIN:VEVENT
DTSTART;TZID=America/New_York:20260224T170000
DTEND;TZID=America/New_York:20260224T220000
DTSTAMP:20260420T150816
CREATED:20250603T185758Z
LAST-MODIFIED:20260323T161604Z
UID:102695-1771952400-1771970400@macspeedshop.com
SUMMARY:Kids Night!
DESCRIPTION:Kids Rule Tuesday Nights!\nGet a kids meal for $2.50 with purchase of an adult entrée starting at 5pm!\n*Dine-In Only*
URL:https://macspeedshop.com/event/kids-night/2026-02-24/
LOCATION:Concord Mills\, 8021 Concord Mills Boulevard\, Concord\, North Carolina\, 28027
ATTACH;FMTTYPE=image/jpeg:https://macspeedshop.com/wp-content/uploads/2024/03/Kids-Night-5.jpg
END:VEVENT
BEGIN:VEVENT
DTSTART;TZID=America/New_York:20260217T170000
DTEND;TZID=America/New_York:20260217T220000
DTSTAMP:20260420T150816
CREATED:20250603T185758Z
LAST-MODIFIED:20260323T161603Z
UID:102694-1771347600-1771365600@macspeedshop.com
SUMMARY:Kids Night!
DESCRIPTION:Kids Rule Tuesday Nights!\nGet a kids meal for $2.50 with purchase of an adult entrée starting at 5pm!\n*Dine-In Only*
URL:https://macspeedshop.com/event/kids-night/2026-02-17/
LOCATION:Concord Mills\, 8021 Concord Mills Boulevard\, Concord\, North Carolina\, 28027
ATTACH;FMTTYPE=image/jpeg:https://macspeedshop.com/wp-content/uploads/2024/03/Kids-Night-5.jpg
END:VEVENT
BEGIN:VEVENT
DTSTART;TZID=America/New_York:20260210T170000
DTEND;TZID=America/New_York:20260210T220000
DTSTAMP:20260420T150816
CREATED:20250603T185758Z
LAST-MODIFIED:20260323T161603Z
UID:102693-1770742800-1770760800@macspeedshop.com
SUMMARY:Kids Night!
DESCRIPTION:Kids Rule Tuesday Nights!\nGet a kids meal for $2.50 with purchase of an adult entrée starting at 5pm!\n*Dine-In Only*
URL:https://macspeedshop.com/event/kids-night/2026-02-10/
LOCATION:Concord Mills\, 8021 Concord Mills Boulevard\, Concord\, North Carolina\, 28027
ATTACH;FMTTYPE=image/jpeg:https://macspeedshop.com/wp-content/uploads/2024/03/Kids-Night-5.jpg
END:VEVENT
BEGIN:VEVENT
DTSTART;TZID=America/New_York:20260203T170000
DTEND;TZID=America/New_York:20260203T220000
DTSTAMP:20260420T150816
CREATED:20250603T185758Z
LAST-MODIFIED:20260323T161602Z
UID:102692-1770138000-1770156000@macspeedshop.com
SUMMARY:Kids Night!
DESCRIPTION:Kids Rule Tuesday Nights!\nGet a kids meal for $2.50 with purchase of an adult entrée starting at 5pm!\n*Dine-In Only*
URL:https://macspeedshop.com/event/kids-night/2026-02-03/
LOCATION:Concord Mills\, 8021 Concord Mills Boulevard\, Concord\, North Carolina\, 28027
ATTACH;FMTTYPE=image/jpeg:https://macspeedshop.com/wp-content/uploads/2024/03/Kids-Night-5.jpg
END:VEVENT
BEGIN:VEVENT
DTSTART;TZID=America/New_York:20260127T170000
DTEND;TZID=America/New_York:20260127T220000
DTSTAMP:20260420T150816
CREATED:20250603T185758Z
LAST-MODIFIED:20260323T161602Z
UID:102691-1769533200-1769551200@macspeedshop.com
SUMMARY:Kids Night!
DESCRIPTION:Kids Rule Tuesday Nights!\nGet a kids meal for $2.50 with purchase of an adult entrée starting at 5pm!\n*Dine-In Only*
URL:https://macspeedshop.com/event/kids-night/2026-01-27/
LOCATION:Concord Mills\, 8021 Concord Mills Boulevard\, Concord\, North Carolina\, 28027
ATTACH;FMTTYPE=image/jpeg:https://macspeedshop.com/wp-content/uploads/2024/03/Kids-Night-5.jpg
END:VEVENT
BEGIN:VEVENT
DTSTART;TZID=America/New_York:20260120T170000
DTEND;TZID=America/New_York:20260120T220000
DTSTAMP:20260420T150816
CREATED:20250603T185758Z
LAST-MODIFIED:20260323T161601Z
UID:102690-1768928400-1768946400@macspeedshop.com
SUMMARY:Kids Night!
DESCRIPTION:Kids Rule Tuesday Nights!\nGet a kids meal for $2.50 with purchase of an adult entrée starting at 5pm!\n*Dine-In Only*
URL:https://macspeedshop.com/event/kids-night/2026-01-20/
LOCATION:Concord Mills\, 8021 Concord Mills Boulevard\, Concord\, North Carolina\, 28027
ATTACH;FMTTYPE=image/jpeg:https://macspeedshop.com/wp-content/uploads/2024/03/Kids-Night-5.jpg
END:VEVENT
BEGIN:VEVENT
DTSTART;TZID=America/New_York:20260113T170000
DTEND;TZID=America/New_York:20260113T220000
DTSTAMP:20260420T150816
CREATED:20250603T185758Z
LAST-MODIFIED:20260323T161600Z
UID:102689-1768323600-1768341600@macspeedshop.com
SUMMARY:Kids Night!
DESCRIPTION:Kids Rule Tuesday Nights!\nGet a kids meal for $2.50 with purchase of an adult entrée starting at 5pm!\n*Dine-In Only*
URL:https://macspeedshop.com/event/kids-night/2026-01-13/
LOCATION:Concord Mills\, 8021 Concord Mills Boulevard\, Concord\, North Carolina\, 28027
ATTACH;FMTTYPE=image/jpeg:https://macspeedshop.com/wp-content/uploads/2024/03/Kids-Night-5.jpg
END:VEVENT
BEGIN:VEVENT
DTSTART;TZID=America/New_York:20260106T170000
DTEND;TZID=America/New_York:20260106T220000
DTSTAMP:20260420T150816
CREATED:20250603T185758Z
LAST-MODIFIED:20260323T161600Z
UID:102688-1767718800-1767736800@macspeedshop.com
SUMMARY:Kids Night!
DESCRIPTION:Kids Rule Tuesday Nights!\nGet a kids meal for $2.50 with purchase of an adult entrée starting at 5pm!\n*Dine-In Only*
URL:https://macspeedshop.com/event/kids-night/2026-01-06/
LOCATION:Concord Mills\, 8021 Concord Mills Boulevard\, Concord\, North Carolina\, 28027
ATTACH;FMTTYPE=image/jpeg:https://macspeedshop.com/wp-content/uploads/2024/03/Kids-Night-5.jpg
END:VEVENT
BEGIN:VEVENT
DTSTART;TZID=America/New_York:20251230T170000
DTEND;TZID=America/New_York:20251230T220000
DTSTAMP:20260420T150816
CREATED:20250603T185758Z
LAST-MODIFIED:20260323T161558Z
UID:102687-1767114000-1767132000@macspeedshop.com
SUMMARY:Kids Night!
DESCRIPTION:Kids Rule Tuesday Nights!\nGet a kids meal for $2.50 with purchase of an adult entrée starting at 5pm!\n*Dine-In Only*
URL:https://macspeedshop.com/event/kids-night/2025-12-30/
LOCATION:Concord Mills\, 8021 Concord Mills Boulevard\, Concord\, North Carolina\, 28027
ATTACH;FMTTYPE=image/jpeg:https://macspeedshop.com/wp-content/uploads/2024/03/Kids-Night-5.jpg
END:VEVENT
BEGIN:VEVENT
DTSTART;TZID=America/New_York:20251223T170000
DTEND;TZID=America/New_York:20251223T220000
DTSTAMP:20260420T150816
CREATED:20250603T185758Z
LAST-MODIFIED:20260323T161558Z
UID:102686-1766509200-1766527200@macspeedshop.com
SUMMARY:Kids Night!
DESCRIPTION:Kids Rule Tuesday Nights!\nGet a kids meal for $2.50 with purchase of an adult entrée starting at 5pm!\n*Dine-In Only*
URL:https://macspeedshop.com/event/kids-night/2025-12-23/
LOCATION:Concord Mills\, 8021 Concord Mills Boulevard\, Concord\, North Carolina\, 28027
ATTACH;FMTTYPE=image/jpeg:https://macspeedshop.com/wp-content/uploads/2024/03/Kids-Night-5.jpg
END:VEVENT
BEGIN:VEVENT
DTSTART;TZID=America/New_York:20251216T170000
DTEND;TZID=America/New_York:20251216T220000
DTSTAMP:20260420T150816
CREATED:20250603T185758Z
LAST-MODIFIED:20260323T161557Z
UID:102685-1765904400-1765922400@macspeedshop.com
SUMMARY:Kids Night!
DESCRIPTION:Kids Rule Tuesday Nights!\nGet a kids meal for $2.50 with purchase of an adult entrée starting at 5pm!\n*Dine-In Only*
URL:https://macspeedshop.com/event/kids-night/2025-12-16/
LOCATION:Concord Mills\, 8021 Concord Mills Boulevard\, Concord\, North Carolina\, 28027
ATTACH;FMTTYPE=image/jpeg:https://macspeedshop.com/wp-content/uploads/2024/03/Kids-Night-5.jpg
END:VEVENT
BEGIN:VEVENT
DTSTART;TZID=America/New_York:20251209T170000
DTEND;TZID=America/New_York:20251209T220000
DTSTAMP:20260420T150816
CREATED:20250603T185758Z
LAST-MODIFIED:20260323T161557Z
UID:102684-1765299600-1765317600@macspeedshop.com
SUMMARY:Kids Night!
DESCRIPTION:Kids Rule Tuesday Nights!\nGet a kids meal for $2.50 with purchase of an adult entrée starting at 5pm!\n*Dine-In Only*
URL:https://macspeedshop.com/event/kids-night/2025-12-09/
LOCATION:Concord Mills\, 8021 Concord Mills Boulevard\, Concord\, North Carolina\, 28027
ATTACH;FMTTYPE=image/jpeg:https://macspeedshop.com/wp-content/uploads/2024/03/Kids-Night-5.jpg
END:VEVENT
BEGIN:VEVENT
DTSTART;TZID=America/New_York:20251202T170000
DTEND;TZID=America/New_York:20251202T220000
DTSTAMP:20260420T150816
CREATED:20250603T185758Z
LAST-MODIFIED:20260323T161556Z
UID:102683-1764694800-1764712800@macspeedshop.com
SUMMARY:Kids Night!
DESCRIPTION:Kids Rule Tuesday Nights!\nGet a kids meal for $2.50 with purchase of an adult entrée starting at 5pm!\n*Dine-In Only*
URL:https://macspeedshop.com/event/kids-night/2025-12-02/
LOCATION:Concord Mills\, 8021 Concord Mills Boulevard\, Concord\, North Carolina\, 28027
ATTACH;FMTTYPE=image/jpeg:https://macspeedshop.com/wp-content/uploads/2024/03/Kids-Night-5.jpg
END:VEVENT
BEGIN:VEVENT
DTSTART;TZID=America/New_York:20251125T170000
DTEND;TZID=America/New_York:20251125T220000
DTSTAMP:20260420T150816
CREATED:20250603T185758Z
LAST-MODIFIED:20260323T161556Z
UID:102682-1764090000-1764108000@macspeedshop.com
SUMMARY:Kids Night!
DESCRIPTION:Kids Rule Tuesday Nights!\nGet a kids meal for $2.50 with purchase of an adult entrée starting at 5pm!\n*Dine-In Only*
URL:https://macspeedshop.com/event/kids-night/2025-11-25/
LOCATION:Concord Mills\, 8021 Concord Mills Boulevard\, Concord\, North Carolina\, 28027
ATTACH;FMTTYPE=image/jpeg:https://macspeedshop.com/wp-content/uploads/2024/03/Kids-Night-5.jpg
END:VEVENT
BEGIN:VEVENT
DTSTART;TZID=America/New_York:20251118T170000
DTEND;TZID=America/New_York:20251118T220000
DTSTAMP:20260420T150816
CREATED:20250603T185758Z
LAST-MODIFIED:20260323T161555Z
UID:102681-1763485200-1763503200@macspeedshop.com
SUMMARY:Kids Night!
DESCRIPTION:Kids Rule Tuesday Nights!\nGet a kids meal for $2.50 with purchase of an adult entrée starting at 5pm!\n*Dine-In Only*
URL:https://macspeedshop.com/event/kids-night/2025-11-18/
LOCATION:Concord Mills\, 8021 Concord Mills Boulevard\, Concord\, North Carolina\, 28027
ATTACH;FMTTYPE=image/jpeg:https://macspeedshop.com/wp-content/uploads/2024/03/Kids-Night-5.jpg
END:VEVENT
BEGIN:VEVENT
DTSTART;TZID=America/New_York:20251111T170000
DTEND;TZID=America/New_York:20251111T220000
DTSTAMP:20260420T150816
CREATED:20250603T185758Z
LAST-MODIFIED:20260323T161555Z
UID:102680-1762880400-1762898400@macspeedshop.com
SUMMARY:Kids Night!
DESCRIPTION:Kids Rule Tuesday Nights!\nGet a kids meal for $2.50 with purchase of an adult entrée starting at 5pm!\n*Dine-In Only*
URL:https://macspeedshop.com/event/kids-night/2025-11-11/
LOCATION:Concord Mills\, 8021 Concord Mills Boulevard\, Concord\, North Carolina\, 28027
ATTACH;FMTTYPE=image/jpeg:https://macspeedshop.com/wp-content/uploads/2024/03/Kids-Night-5.jpg
END:VEVENT
BEGIN:VEVENT
DTSTART;TZID=America/New_York:20251104T170000
DTEND;TZID=America/New_York:20251104T220000
DTSTAMP:20260420T150816
CREATED:20250603T185758Z
LAST-MODIFIED:20260323T161554Z
UID:102679-1762275600-1762293600@macspeedshop.com
SUMMARY:Kids Night!
DESCRIPTION:Kids Rule Tuesday Nights!\nGet a kids meal for $2.50 with purchase of an adult entrée starting at 5pm!\n*Dine-In Only*
URL:https://macspeedshop.com/event/kids-night/2025-11-04/
LOCATION:Concord Mills\, 8021 Concord Mills Boulevard\, Concord\, North Carolina\, 28027
ATTACH;FMTTYPE=image/jpeg:https://macspeedshop.com/wp-content/uploads/2024/03/Kids-Night-5.jpg
END:VEVENT
BEGIN:VEVENT
DTSTART;TZID=America/New_York:20251028T170000
DTEND;TZID=America/New_York:20251028T220000
DTSTAMP:20260420T150816
CREATED:20250603T185758Z
LAST-MODIFIED:20260323T161554Z
UID:102678-1761670800-1761688800@macspeedshop.com
SUMMARY:Kids Night!
DESCRIPTION:Kids Rule Tuesday Nights!\nGet a kids meal for $2.50 with purchase of an adult entrée starting at 5pm!\n*Dine-In Only*
URL:https://macspeedshop.com/event/kids-night/2025-10-28/
LOCATION:Concord Mills\, 8021 Concord Mills Boulevard\, Concord\, North Carolina\, 28027
ATTACH;FMTTYPE=image/jpeg:https://macspeedshop.com/wp-content/uploads/2024/03/Kids-Night-5.jpg
END:VEVENT
BEGIN:VEVENT
DTSTART;TZID=America/New_York:20251021T170000
DTEND;TZID=America/New_York:20251021T220000
DTSTAMP:20260420T150816
CREATED:20250603T185758Z
LAST-MODIFIED:20260323T161552Z
UID:102677-1761066000-1761084000@macspeedshop.com
SUMMARY:Kids Night!
DESCRIPTION:Kids Rule Tuesday Nights!\nGet a kids meal for $2.50 with purchase of an adult entrée starting at 5pm!\n*Dine-In Only*
URL:https://macspeedshop.com/event/kids-night/2025-10-21/
LOCATION:Concord Mills\, 8021 Concord Mills Boulevard\, Concord\, North Carolina\, 28027
ATTACH;FMTTYPE=image/jpeg:https://macspeedshop.com/wp-content/uploads/2024/03/Kids-Night-5.jpg
END:VEVENT
BEGIN:VEVENT
DTSTART;TZID=America/New_York:20251014T170000
DTEND;TZID=America/New_York:20251014T220000
DTSTAMP:20260420T150816
CREATED:20250603T185758Z
LAST-MODIFIED:20260323T161552Z
UID:102676-1760461200-1760479200@macspeedshop.com
SUMMARY:Kids Night!
DESCRIPTION:Kids Rule Tuesday Nights!\nGet a kids meal for $2.50 with purchase of an adult entrée starting at 5pm!\n*Dine-In Only*
URL:https://macspeedshop.com/event/kids-night/2025-10-14/
LOCATION:Concord Mills\, 8021 Concord Mills Boulevard\, Concord\, North Carolina\, 28027
ATTACH;FMTTYPE=image/jpeg:https://macspeedshop.com/wp-content/uploads/2024/03/Kids-Night-5.jpg
END:VEVENT
BEGIN:VEVENT
DTSTART;TZID=America/New_York:20251007T170000
DTEND;TZID=America/New_York:20251007T220000
DTSTAMP:20260420T150816
CREATED:20250603T185758Z
LAST-MODIFIED:20260323T161551Z
UID:102675-1759856400-1759874400@macspeedshop.com
SUMMARY:Kids Night!
DESCRIPTION:Kids Rule Tuesday Nights!\nGet a kids meal for $2.50 with purchase of an adult entrée starting at 5pm!\n*Dine-In Only*
URL:https://macspeedshop.com/event/kids-night/2025-10-07/
LOCATION:Concord Mills\, 8021 Concord Mills Boulevard\, Concord\, North Carolina\, 28027
ATTACH;FMTTYPE=image/jpeg:https://macspeedshop.com/wp-content/uploads/2024/03/Kids-Night-5.jpg
END:VEVENT
BEGIN:VEVENT
DTSTART;TZID=America/New_York:20250930T170000
DTEND;TZID=America/New_York:20250930T220000
DTSTAMP:20260420T150816
CREATED:20250603T185758Z
LAST-MODIFIED:20260323T161551Z
UID:102674-1759251600-1759269600@macspeedshop.com
SUMMARY:Kids Night!
DESCRIPTION:Kids Rule Tuesday Nights!\nGet a kids meal for $2.50 with purchase of an adult entrée starting at 5pm!\n*Dine-In Only*
URL:https://macspeedshop.com/event/kids-night/2025-09-30/
LOCATION:Concord Mills\, 8021 Concord Mills Boulevard\, Concord\, North Carolina\, 28027
ATTACH;FMTTYPE=image/jpeg:https://macspeedshop.com/wp-content/uploads/2024/03/Kids-Night-5.jpg
END:VEVENT
BEGIN:VEVENT
DTSTART;TZID=America/New_York:20250923T170000
DTEND;TZID=America/New_York:20250923T220000
DTSTAMP:20260420T150816
CREATED:20250603T185758Z
LAST-MODIFIED:20260323T161550Z
UID:102673-1758646800-1758664800@macspeedshop.com
SUMMARY:Kids Night!
DESCRIPTION:Kids Rule Tuesday Nights!\nGet a kids meal for $2.50 with purchase of an adult entrée starting at 5pm!\n*Dine-In Only*
URL:https://macspeedshop.com/event/kids-night/2025-09-23/
LOCATION:Concord Mills\, 8021 Concord Mills Boulevard\, Concord\, North Carolina\, 28027
ATTACH;FMTTYPE=image/jpeg:https://macspeedshop.com/wp-content/uploads/2024/03/Kids-Night-5.jpg
END:VEVENT
END:VCALENDAR